BEGIN:VCALENDAR
VERSION:2.0
PRODID:-//Dominion of Canada Rifle Association - ECPv6.15.20//NONSGML v1.0//EN
CALSCALE:GREGORIAN
METHOD:PUBLISH
X-WR-CALNAME:Dominion of Canada Rifle Association
X-ORIGINAL-URL:https://dcra.ca
X-WR-CALDESC:Events for Dominion of Canada Rifle Association
REFRESH-INTERVAL;VALUE=DURATION:PT1H
X-Robots-Tag:noindex
X-PUBLISHED-TTL:PT1H
BEGIN:VTIMEZONE
TZID:America/Toronto
BEGIN:DAYLIGHT
TZOFFSETFROM:-0500
TZOFFSETTO:-0400
TZNAME:EDT
DTSTART:20230312T070000
END:DAYLIGHT
BEGIN:STANDARD
TZOFFSETFROM:-0400
TZOFFSETTO:-0500
TZNAME:EST
DTSTART:20231105T060000
END:STANDARD
BEGIN:DAYLIGHT
TZOFFSETFROM:-0500
TZOFFSETTO:-0400
TZNAME:EDT
DTSTART:20240310T070000
END:DAYLIGHT
BEGIN:STANDARD
TZOFFSETFROM:-0400
TZOFFSETTO:-0500
TZNAME:EST
DTSTART:20241103T060000
END:STANDARD
BEGIN:DAYLIGHT
TZOFFSETFROM:-0500
TZOFFSETTO:-0400
TZNAME:EDT
DTSTART:20250309T070000
END:DAYLIGHT
BEGIN:STANDARD
TZOFFSETFROM:-0400
TZOFFSETTO:-0500
TZNAME:EST
DTSTART:20251102T060000
END:STANDARD
END:VTIMEZONE
BEGIN:VEVENT
DTSTART;VALUE=DATE:20240629
DTEND;VALUE=DATE:20240702
DTSTAMP:20260421T044633
CREATED:20240402T111049Z
LAST-MODIFIED:20240402T111049Z
UID:650-1719619200-1719878399@dcra.ca
SUMMARY:Eastern Canada F-Class Championship 2024
DESCRIPTION:ICFRA Targets \nShot Marker Electronic Targets \n  \nRegister at: https://targetscore.app/event/register/2024_Eastern_Canada_F_Class_Championship_yhk70J
URL:https://dcra.ca/event/eastern-canada-f-class-championship-2024/
LOCATION:Mons Range\, Range Rd\, Borden\, Ontario\, L0M 1C0\, Canada
CATEGORIES:F Class Events
ORGANIZER;CN="ORA":MAILTO:orasecretary2023@gmail.com
END:VEVENT
END:VCALENDAR